BEGIN:VCALENDAR
VERSION:2.0
PRODID:-//Always Prai - ECPv6.15.11//NONSGML v1.0//EN
CALSCALE:GREGORIAN
METHOD:PUBLISH
X-ORIGINAL-URL:https://alwaysprai.com
X-WR-CALDESC:Events for Always Prai
REFRESH-INTERVAL;VALUE=DURATION:PT1H
X-Robots-Tag:noindex
X-PUBLISHED-TTL:PT1H
BEGIN:VTIMEZONE
TZID:UTC
BEGIN:STANDARD
TZOFFSETFROM:+0000
TZOFFSETTO:+0000
TZNAME:UTC
DTSTART:20250101T000000
END:STANDARD
END:VTIMEZONE
BEGIN:VEVENT
DTSTART;TZID=UTC:20260208T140000
DTEND;TZID=UTC:20260308T150000
DTSTAMP:20260425T110711
CREATED:20260213T200611Z
LAST-MODIFIED:20260225T021036Z
UID:8515-1770559200-1772982000@alwaysprai.com
SUMMARY:Mindful Reflection Session- March
DESCRIPTION:Join us on the first Sunday of this new year for a free virtual space to pause\, breathe\, and reflect! Together\, we’ll practice a short guided meditation\, breathwork\, and journaling prompts to realign for the month ahead. \nBring: your journal\, a pen\, and an open heart 💜 \nAdd to cart	\n			\n \n📍 Google Meet joining info \nVideo call link: https://meet.google.com/axw-cpxd-bom\nOr dial: ‪(US) +1 628-888-1520‬ PIN: ‪606 308 880‬#\nMore phone numbers: https://tel.meet/axw-cpxd-bom?pin=6179803458300 \n 
URL:https://alwaysprai.com/event/mindful-reflection-session-march/
LOCATION:Virtual
CATEGORIES:Community,Mental Health,recurring
ATTACH;FMTTYPE=image/png:https://alwaysprai.com/wp-content/uploads/2025/12/Mindful-reflection-session-Janunary-2.png
END:VEVENT
BEGIN:VEVENT
DTSTART;TZID=UTC:20260327T193000
DTEND;TZID=UTC:20260327T223000
DTSTAMP:20260425T110711
CREATED:20260225T022259Z
LAST-MODIFIED:20260225T023441Z
UID:8516-1774639800-1774650600@alwaysprai.com
SUMMARY:Prompt n’ Pour: Sip\, Reflect\, & Connect
DESCRIPTION:Prompt n’ Pour is a soft\, intentional evening for creatives\, dreamers\, and anyone craving a moment to slow down and reconnect with themselves. (Wine and light refreshments included in ticket) \nWe’ll gather for a cozy night of guided journaling\, gentle reflection\, and meaningful conversation. Think: drinks\, soft energy\, aligned women\, and a space where you can simply be. \nTo support your experience\, each guest will receive a themed journal prompt pack and a pen to use during our session. You’re welcome to bring your own journal if you prefer — but everything you need will be provided. \nWine will be available to enjoy throughout the evening while supplies last. Guests are welcome to sip at their own pace as they reflect\, write\, and connect — the focus is always on presence and intention. \nWhat to Expect\n\nA warm\, welcoming space to unwind after the day\nA curated journal prompt pack to guide your reflection\nPens + writing materials provided\nTime to write\, process\, and create at your own pace\nOptional sharing + soft conversation with other creatives\nWine\, tea + light snacks (included in your ticket)\nA relaxed\, judgment-free\, community-centered environment\n\nWho This Is For\nAnyone who wants:\n✨ community\n✨ clarity\n✨ creativity\n✨ a gentle reset\n✨ to meet aligned people in NYC \nWhat You Get \n\nGuided journaling experience\nWine & refreshments\nTake-home Prompt Pack\nPost-event reflection email\n\nLeave feeling grounded\, inspired\, and poured back into. \nUse Promo Code: “PNP” for an additional $10 OFF (Limited tickets available)\n Get Your Ticket Now!\n\n   \n\n\n\n\n\n\n\n\n\n\nView this post on Instagram
URL:https://alwaysprai.com/event/prompt-n-pour-sip-reflect-connect-2/
LOCATION:56 bogart st\, 56 Bogart st\, Brooklyn\, NY\, 11206\, United States
CATEGORIES:Community,Mental Health,Networking
ATTACH;FMTTYPE=image/png:https://alwaysprai.com/wp-content/uploads/2026/02/Prompt-n-pour-eventbrite-banner.png
END:VEVENT
END:VCALENDAR