BEGIN:VCALENDAR
VERSION:2.0
PRODID:-//Always Prai - ECPv6.15.11//NONSGML v1.0//EN
CALSCALE:GREGORIAN
METHOD:PUBLISH
X-WR-CALNAME:Always Prai
X-ORIGINAL-URL:https://alwaysprai.com
X-WR-CALDESC:Events for Always Prai
REFRESH-INTERVAL;VALUE=DURATION:PT1H
X-Robots-Tag:noindex
X-PUBLISHED-TTL:PT1H
BEGIN:VTIMEZONE
TZID:UTC
BEGIN:STANDARD
TZOFFSETFROM:+0000
TZOFFSETTO:+0000
TZNAME:UTC
DTSTART:20170101T000000
END:STANDARD
END:VTIMEZONE
BEGIN:VEVENT
DTSTART;VALUE=DATE:20190309
DTEND;VALUE=DATE:20190319
DTSTAMP:20260424T204653
CREATED:20181127T202422Z
LAST-MODIFIED:20190104T030424Z
UID:2049-1552089600-1552953599@alwaysprai.com
SUMMARY:SXSW
DESCRIPTION:SXSW festival is held in Austin\, Texas every year. The festival is a week long\, with special days set for interactive\, film\, and music. The festival is held all over downtown Austin. Almost every business in the area tries to be a part of it. People come from all over to attend the festival. And Austin\, Texas infamous 6th street is poppin’ with all kinds of people from morning to night. You can buy a badge to attend any and all parts of SXSW. But my sister and I volunteer every year in order to get a free v.i.p music badge. The music festival is my favorite part. Artists from small to big\, local to international perform at different venues for several days straight. Stay tuned for my post on how to volunteer to receive SXSW perks or how to get involved and be in the know during the event. But for now\, click on the link below to learn more about the festival! \n\n			\n				\n									\n		\n	\n	\n		\n			SXSW Conference & Festivals		\n	\n	\n		\n			Celebrate the convergence of the tech\, film\, and music industries at SXSW 2026 from March 12-18 in Austin\, Texas. \n		\n	\n	\n				SXSW
URL:https://alwaysprai.com/event/sxsw/
LOCATION:NY
CATEGORIES:concerts,festival,fun,music
END:VEVENT
BEGIN:VEVENT
DTSTART;VALUE=DATE:20181215
DTEND;VALUE=DATE:20181217
DTSTAMP:20260424T204653
CREATED:20181211T025521Z
LAST-MODIFIED:20181211T030200Z
UID:2331-1544832000-1545004799@alwaysprai.com
SUMMARY:TMS Makeup Show NYC
DESCRIPTION:TMS Makeup Shop NYC\nDECEMBER 15 – 16\, 2018\nSaturday 10:00 AM – 5:30 PM\nSunday 11:00 AM – 5:00 PM\nMetropolitan Pavilion\nBack by popular demand\, TMS Makeup Shop is returning to NYC this holiday season! Stock up on your favorite makeup\, skin care and hair care brands while sipping cocktails on the house. Plus enjoy our complimentary Lip Art Bar and Nail Station! The perfect place for everyone to shop over 40 beauty brands at professional discounts and sample sale prices.\n\nTICKETS SALES ARE NOW OPEN!\n\n\n\nContent\n\n\n\n\n\n\nOne Day\n$21\nOne Day Tickets\n\n\nBuy Tickets\n\n\n\nTwo Days\n$35\nTwo Day Tickets\n\n\nBuy Tickets\n\n\n\n\n  \n\n\nTickets can be purchased online or at the door. \nTickets are non-transferable and non-refundable. \n  \n \nComplimentary drinks sponsored by Ketel One Botanical \n 
URL:https://alwaysprai.com/event/tms-makeup-show-nyc/
LOCATION:metropolitan pavilion\, 123 W 18TH STREET\, new york\, NY\, United States
CATEGORIES:Beauty,fun
END:VEVENT
END:VCALENDAR