BEGIN:VCALENDAR
VERSION:2.0
PRODID:-//Always Prai - ECPv6.15.11//NONSGML v1.0//EN
CALSCALE:GREGORIAN
METHOD:PUBLISH
X-ORIGINAL-URL:https://alwaysprai.com
X-WR-CALDESC:Events for Always Prai
REFRESH-INTERVAL;VALUE=DURATION:PT1H
X-Robots-Tag:noindex
X-PUBLISHED-TTL:PT1H
BEGIN:VTIMEZONE
TZID:UTC
BEGIN:STANDARD
TZOFFSETFROM:+0000
TZOFFSETTO:+0000
TZNAME:UTC
DTSTART:20180101T000000
END:STANDARD
END:VTIMEZONE
BEGIN:VEVENT
DTSTART;TZID=UTC:20190109T190000
DTEND;TZID=UTC:20190109T190000
DTSTAMP:20260424T220132
CREATED:20190104T023254Z
LAST-MODIFIED:20190104T023254Z
UID:2581-1547060400-1547060400@alwaysprai.com
SUMMARY:Relax & Reset @Rubin Museum
DESCRIPTION:Attention Required! | Cloudflare		\n	\n	\n		\n					\n	\n	\n				brooklynbased.com	\n\n  \nIf your 2019 has gotten off to as unhealthy a start as mine\, you could use a reset on Wednesday\, Jan. 9 at The Rubin Museum. Take the Vinyasa Yoga class at 7pm\, to get into the flow of the new year\, then attune yourself to new beginnings with the sound bath meditation that follows ($35). Before you leave\, spin the “Wheel of Intentions\,” an interactive installation where “visitors can empower their own intentions\,” and walk across a “lake” installed on the fifth floor\, part of the exhibition\, “A Lost Future: Matti Braun.” \n\n			\n				\n									\n		\n	\n	\n		\n			logo		\n	\n	\n		\n					\n	\n	\n				rubinmuseum.org	\n\n 
URL:https://alwaysprai.com/event/relax-reset-rubin-museum/
CATEGORIES:Museum,Random
END:VEVENT
BEGIN:VEVENT
DTSTART;TZID=UTC:20190103T080000
DTEND;TZID=UTC:20190103T170000
DTSTAMP:20260424T220132
CREATED:20190104T022143Z
LAST-MODIFIED:20190104T022143Z
UID:2575-1546502400-1546534800@alwaysprai.com
SUMMARY:Brooklyn Musem
DESCRIPTION:brooklynbased.com \n\nThe First Target First Saturday of 2019\nBY KATE HOOKER \n\n\n\nIt’s the first Saturday of 2019\, and that means that Target First Saturdays is back with a new installment at the Brooklyn Museum from 5-11pm. On the slate this month there is music from NOVA Trek\, Bembona\, and Young Paris; an artist and curator tour of the current Rob Wynne exhibit; a mobile-making workshop; a screening of The Foreigner’s Home\, a film about the exhibition Toni Morrison held at The Louvre; a performance by the Brooklyn Dance Festival; and lots more. As always\, admission is free.
URL:https://alwaysprai.com/event/brooklyn-musem/
LOCATION:Brooklyn Museum
CATEGORIES:art,Museum
END:VEVENT
END:VCALENDAR