BEGIN:VCALENDAR
VERSION:2.0
PRODID:-//Always Prai - ECPv6.15.11//NONSGML v1.0//EN
CALSCALE:GREGORIAN
METHOD:PUBLISH
X-WR-CALNAME:Always Prai
X-ORIGINAL-URL:https://alwaysprai.com
X-WR-CALDESC:Events for Always Prai
REFRESH-INTERVAL;VALUE=DURATION:PT1H
X-Robots-Tag:noindex
X-PUBLISHED-TTL:PT1H
BEGIN:VTIMEZONE
TZID:UTC
BEGIN:STANDARD
TZOFFSETFROM:+0000
TZOFFSETTO:+0000
TZNAME:UTC
DTSTART:20180101T000000
END:STANDARD
END:VTIMEZONE
BEGIN:VEVENT
DTSTART;TZID=UTC:20251109T140000
DTEND;TZID=UTC:20251109T150000
DTSTAMP:20260424T154001
CREATED:20251029T011710Z
LAST-MODIFIED:20251029T011710Z
UID:8299-1762696800-1762700400@alwaysprai.com
SUMMARY:Mindful Reflection Session- November
DESCRIPTION:Join us every first Sunday of the month for a free virtual space to pause\, breathe\, and reflect. Together\, we’ll practice a short guided meditation\, breathwork\, and journaling prompts to realign for the month ahead. \n🎥 I’ll also be recording a portion live on Instagram/TikTok so you can catch the vibe and replay clips later. \nBring: your journal\, a pen\, and an open heart 💜 \nAdd to cart	\n			\n \n📍 Google Meet joining info \nVideo call link: https://meet.google.com/xde-kmpw-wvz\nOr dial: (US) +1 440-754-0348 PIN: 272 857 027#\nMore phone numbers: https://tel.meet/xde-kmpw-wvz?pin=1853009638441
URL:https://alwaysprai.com/event/mindful-reflection-session-november/
LOCATION:Virtual
CATEGORIES:Community,Mental Health,recurring
ATTACH;FMTTYPE=image/png:https://alwaysprai.com/wp-content/uploads/2025/10/Mindful-reflection-session-Nov-2.png
END:VEVENT
BEGIN:VEVENT
DTSTART;TZID=UTC:20251005T140000
DTEND;TZID=UTC:20251005T150000
DTSTAMP:20260424T154001
CREATED:20250902T212937Z
LAST-MODIFIED:20250903T195840Z
UID:8178-1759672800-1759676400@alwaysprai.com
SUMMARY:Mindful Reflection Session- October
DESCRIPTION:Join us every first Sunday of the month for a free virtual space to pause\, breathe\, and reflect. Together\, we’ll practice a short guided meditation\, breathwork\, and journaling prompts to realign for the month ahead. \n🎥 I’ll also be recording a portion live on Instagram/TikTok so you can catch the vibe and replay clips later. \nBring: your journal\, a pen\, and an open heart 💜 \nRead more	\n			\n \n📍 Google Meet joining info\nVideo call link: https://meet.google.com/wpk-jqfj-jeq\nOr dial: ‪(US) +1 413-418-2282‬ PIN: ‪726 486 597‬#\nMore phone numbers: https://tel.meet/wpk-jqfj-jeq?pin=1320210390736
URL:https://alwaysprai.com/event/mindful-reflection-session-october/
LOCATION:Virtual
CATEGORIES:Community,Mental Health,recurring
ATTACH;FMTTYPE=image/png:https://alwaysprai.com/wp-content/uploads/2025/09/3.png
END:VEVENT
BEGIN:VEVENT
DTSTART;TZID=UTC:20250907T140000
DTEND;TZID=UTC:20250907T150000
DTSTAMP:20260424T154001
CREATED:20250902T204643Z
LAST-MODIFIED:20250903T185924Z
UID:8170-1757253600-1757257200@alwaysprai.com
SUMMARY:Mindful Reflection Session- September
DESCRIPTION:Join us every first Sunday of the month for a free virtual space to pause\, breathe\, and reflect. Together\, we’ll practice a short guided meditation\, breathwork\, and journaling prompts to realign for the month ahead. \n🎥 I’ll also be recording a portion live on Instagram/TikTok so you can catch the vibe and replay clips later. \nBring: your journal\, a pen\, and an open heart 💜 \nRead more	\n			\n \n📍 Google Meet joining info:\nVideo call link: https://meet.google.com/udx-fqir-atg\nOr dial: ‪(US) +1 409-444-2651‬ PIN: ‪581 876 882‬#\nMore phone numbers: https://tel.meet/udx-fqir-atg?pin=6014724744785
URL:https://alwaysprai.com/event/mindful-reflection-session-september/
LOCATION:Virtual
CATEGORIES:Community,free,Mental Health,recurring
ATTACH;FMTTYPE=image/png:https://alwaysprai.com/wp-content/uploads/2025/09/2.png
END:VEVENT
BEGIN:VEVENT
DTSTART;TZID=UTC:20190110T220000
DTEND;TZID=UTC:20190110T220000
DTSTAMP:20260424T154001
CREATED:20190104T032350Z
LAST-MODIFIED:20190104T035548Z
UID:2587-1547157600-1547157600@alwaysprai.com
SUMMARY:Living Room Sessions Tuesdays at Up and Down
DESCRIPTION:Living Room Sessions Tuesdays at Up and Down Free Guestlist - 1/22/2019		\n	\n	\n		\n			Get on the free guestlist for Living Room Sessions Tuesdays at Up and Down New York on Tuesday 1/22/2019!Use the free Discotech App to sign up for guestlist\, buy tickets\, or book table service at Up and Down + other clubs in New York. Guestlist Details: Discounted for males before 12 AM\, free for females… \n		\n	\n	\n				Eventbrite	\n\nDescription\n\n\nGet on the free guestlist for Living Room Sessions Tuesdays at Up and Down New York on Tuesday 1/22/2019! \nUse the free Discotech App or Eventbrite App to sign up for guestlist\, buy tickets\, or book table service at Up and Down + other clubs in New York. \nGuestlist Details: Discounted for males before 12 AM\, free for females before 1:30 AM – mention Discotech under Kevin Wong’s guestlist \nSigning up for a guest list does not guarantee entry. Appropriate attire is required. Guestlist may close early if venue reaches capacity. The venue reserves the right to refuse entry for any reason. \nLooking to book bottle service at Up and Down? Feel free to contact us at reservations@discotech.me or 415-735-6716 to get a custom table service quote for your party! Please include the number of guys/girls in your party and the date & club you’re interested in.
URL:https://alwaysprai.com/event/up-and-down-listening/
LOCATION:Up and Down\, new york\, new york
CATEGORIES:free,recurring
END:VEVENT
END:VCALENDAR