BEGIN:VCALENDAR
VERSION:2.0
PRODID:-//Always Prai - ECPv6.15.11//NONSGML v1.0//EN
CALSCALE:GREGORIAN
METHOD:PUBLISH
X-WR-CALNAME:Always Prai
X-ORIGINAL-URL:https://alwaysprai.com
X-WR-CALDESC:Events for Always Prai
REFRESH-INTERVAL;VALUE=DURATION:PT1H
X-Robots-Tag:noindex
X-PUBLISHED-TTL:PT1H
BEGIN:VTIMEZONE
TZID:UTC
BEGIN:STANDARD
TZOFFSETFROM:+0000
TZOFFSETTO:+0000
TZNAME:UTC
DTSTART:20170101T000000
END:STANDARD
END:VTIMEZONE
BEGIN:VEVENT
DTSTART;TZID=UTC:20181206T190000
DTEND;TZID=UTC:20181206T190000
DTSTAMP:20260425T103252
CREATED:20181128T010015Z
LAST-MODIFIED:20181128T015934Z
UID:2072-1544122800-1544122800@alwaysprai.com
SUMMARY:Big Sean- Hulu Theater
DESCRIPTION:Click to Learn More and for official tickets!\n\n			\n				\n									\n		\n	\n	\n		\n			Attention Required! | Cloudflare		\n	\n	\n		\n					\n	\n	\n				www.bandsintown.com
URL:https://alwaysprai.com/event/big-sean-hulu-theater/
CATEGORIES:music
END:VEVENT
BEGIN:VEVENT
DTSTART;VALUE=DATE:20181202
DTEND;VALUE=DATE:20181206
DTSTAMP:20260425T103252
CREATED:20181116T010807Z
LAST-MODIFIED:20181116T010807Z
UID:1967-1543708800-1544054399@alwaysprai.com
SUMMARY:New York Fashion Week: December
DESCRIPTION:CFDA NYFW schedule coming Soon!
URL:https://alwaysprai.com/event/new-york-fashion-week-december/
LOCATION:NYC\, United States
CATEGORIES:fashion
END:VEVENT
BEGIN:VEVENT
DTSTART;TZID=UTC:20181127T210000
DTEND;TZID=UTC:20181127T210000
DTSTAMP:20260425T103252
CREATED:20181128T014524Z
LAST-MODIFIED:20181128T015822Z
UID:2090-1543352400-1543352400@alwaysprai.com
SUMMARY:Lil Kim Live @ Orbit
DESCRIPTION:LIL KIM LIVE \nFriday December 7th\, 2018\n@ Orbit NYC\n637 W. 50th Street\, NYC 10019\nLive Performance By\nThe Legendary Queen Bee\nLil Kim\nSinging\nAll Her Hits\nDoors Open 9pm Sharp!\n➖➖➖➖➖➖➖➖➖➖➖➖➖\nMusic by\nThe Finisher Mr. Cee\nalongside Power 105’s Own DJ Ty Boogie\n➖➖➖➖➖➖➖➖➖➖➖➖\n$25 Advance Ticket Price Until 12/1\n$40 Advance Ticket Price Week Of Event\nDress Code:\nAll Black Attire Mandatory\nACT NOW!!!\nTICKETS WILL SELL OUT!!!\n➖➖➖➖➖➖➖➖➖➖➖➖➖\nBottles Packages (Pre-Sold Only)\n2 Bottles For $500 (Ciroc\, Goose\, Henny)\n2 Bottles For $600 (Patron or Rose’)\n➖➖➖➖➖➖➖➖➖➖➖➖➖\nBirthdays • Bottle Service • Info \nTEXT 917-204-7430 PIERRE \nGet your Ticket Here!
URL:https://alwaysprai.com/event/lil-kim-li/
CATEGORIES:music,nightlife
END:VEVENT
BEGIN:VEVENT
DTSTART;TZID=UTC:20181127T200000
DTEND;TZID=UTC:20181127T200000
DTSTAMP:20260425T103252
CREATED:20181128T013437Z
LAST-MODIFIED:20181128T015812Z
UID:2088-1543348800-1543348800@alwaysprai.com
SUMMARY:Jora Smith & Rayvn Lenae
DESCRIPTION:  \nTickets Starting at $34.50 + fees!\n\n			\n				\n									\n		\n	\n	\n		\n			Attention Required! | Cloudflare		\n	\n	\n		\n					\n	\n	\n				www.bandsintown.com
URL:https://alwaysprai.com/event/jora-smith-rayvn-lenae/
CATEGORIES:music
END:VEVENT
END:VCALENDAR